BEGIN:VCALENDAR
METHOD:PUBLISH
PRODID:Microsoft Exchange Server 2010
VERSION:2.0
BEGIN:VTIMEZONE
TZID:tzone://Microsoft/Utc
BEGIN:STANDARD
DTSTART:16010101T000000
TZOFFSETFROM:+0000
TZOFFSETTO:+0000
END:STANDARD
BEGIN:DAYLIGHT
DTSTART:16010101T000000
TZOFFSETFROM:+0000
TZOFFSETTO:+0000
END:DAYLIGHT
END:VTIMEZONE
BEGIN:VEVENT
ORGANIZER;CN=eventos@circulocontencioso.pt:mailto:eventos@circulocontencios
 o.pt
DESCRIPTION:Temos encontro marcado no próximo dia 19 de junho para a X Con
 ferência Diálogos Magistrados Advogados no Centro de Congressos do Estor
 il.\n\n
UID:040000008200E00074C5B7101A82E00800000000A7EBBDBC4D7ADC01000000000000000
 010000000E9CA35DF1298C94BB531CCD331F671C2
SUMMARY:X Conferência Diálogos Magistrados Advogados
DTSTART:20260619T080000Z
DTEND:20260619T170000Z
CLASS:PUBLIC
PRIORITY:5
DTSTAMP:20251231T120527Z
TRANSP:OPAQUE
STATUS:CONFIRMED
SEQUENCE:0
LOCATION;ALTREP="https://www.bingapis.com/api/v6/localbusinesses/YN8149x1243
 4606988568562832?setLang=pt-PT":Centro de Congressos do Estoril (Avenida Am
 aral\, Cascais Lisbon\, Portugal)
X-MICROSOFT-CDO-BUSYSTATUS:BUSY
X-MICROSOFT-CDO-INTENDEDSTATUS:BUSY
X-MICROSOFT-CDO-ALLDAYEVENT:FALSE
X-MICROSOFT-CDO-IMPORTANCE:1
X-MICROSOFT-CDO-INSTTYPE:0
X-MICROSOFT-ONLINEMEETINGEXTERNALLINK:
X-MICROSOFT-ONLINEMEETINGCONFLINK:
X-MICROSOFT-DONOTFORWARDMEETING:FALSE
X-MICROSOFT-DISALLOW-COUNTER:TRUE
X-MICROSOFT-LOCATIONDISPLAYNAME:Centro de Congressos do Estoril
X-MICROSOFT-LOCATIONSOURCE:LocationServices
X-MICROSOFT-LOCATIONURI:https://www.bingapis.com/api/v6/localbusinesses/YN8
 149x12434606988568562832?setLang=pt-PT
X-MICROSOFT-LATITUDE:38.707
X-MICROSOFT-LONGITUDE:-9.3961
X-MICROSOFT-LOCATIONSTREET:Avenida Amaral
X-MICROSOFT-LOCATIONCITY:Cascais
X-MICROSOFT-LOCATIONSTATE:Lisbon
X-MICROSOFT-LOCATIONCOUNTRY:Portugal
X-MICROSOFT-LOCATIONS:[{"DisplayName":"Centro de Congressos do Estoril"\,"L
 ocationAnnotation":""\,"LocationSource":1\,"LocationUri":"https://www.bing
 apis.com/api/v6/localbusinesses/YN8149x12434606988568562832?setLang=pt-PT"
 \,"Latitude":38.707\,"Longitude":-9.3961\,"LocationStreet":"Avenida Amaral
 "\,"LocationCity":"Cascais"\,"LocationState":"Lisbon"\,"LocationCountry":"
 Portugal"\,"LocationPostalCode":""\,"LocationFullAddress":""}]
BEGIN:VALARM
DESCRIPTION:REMINDER
TRIGGER;RELATED=START:-P1D
ACTION:DISPLAY
END:VALARM
END:VEVENT
END:VCALENDAR
